BEGIN:VCALENDAR
VERSION:2.0
PRODID:-//hacksw/handcal//NONSGML v1.0//EN
BEGIN:VEVENT
UID:b72dac96e0042f17119499cc2eeaacbe
DTSTAMP:20260425T115407Z

DTSTART:20200724T000000
DTEND:20200726T235959
SUMMARY:LAYERS AND THE STYLE ITALIANO METHOD - Dr Jordi Manauta - July 2020
DESCRIPTION:Lecture and Hands On\nINR 102,247.00 + 18% TAX\nINR 9,759 discount!\n\nOffer Expires: Jun 20th 11 PM\nJul 24th to 26th 2020\n\n\n\nCPD Points:\n21.00 awarded by Dental Board of Australia\nAddress:&nbsp;Hotel Sea Princess\nJuhu Tara Rd, near Juhu Beach, Airport Area\nJuhu, Mumbai,\nMaharashtra, 400049\n\nTimings:\n9am (sharp) - 5:30pm.\nRegistration:&nbsp;8:30am\n\n\n\nLecture Only\nINR 7,782.00 + 18% TAX\nJul 24th 2020\n\n\n\nCPD Points:\n7.00 awarded by Dental Board of Australia\nAddress:&nbsp;Hotel Sea Princess\nJuhu Tara Rd, near Juhu Beach, Airport Area\nJuhu, Mumbai,\nMaharashtra, 400049\n\n\nTimings:\n9am (sharp) - 5:30pm.\nRegistration:&nbsp;8:30am\n\nPayment Options:&nbsp;Bank Transfer\n\n&nbsp;\nCOURSE DESCRIPTION\n\n\n\nINTRODUCTION\nINTRODUCTION\nAesthetics dentistry is a topic now commonly presented in many congresses, articles and dental schools. It is something every dentist wants to do and achieve but aesthetically can be difficult to master especially with new complicated techniques. Some dentists are skeptical with the term “simple” aesthetic dentistry as the process may not always acheive optimum easthetic results. However, this is not always the case as demonstrated by Style Italiano. Learn how to obtain excellent results with the rational use of the “all time” concepts and the most contemporary simplified techniques\nOVERVIEW\nThis course has as main goal, that is to teach the practitioner practical simple fool proof techniques that can be apply immediately after the course in their everyday practice boosting the quality of their work, especially function and aesthetics. • Become an expert in color matching • Master stratification of composite resins • Master surface texture and morphology • Learn how make adhesive dentistry last&nbsp;\n\n\nDAY 1\nTHEORY • JULY 24th&nbsp;\nThe Secrets of DIGITAL Colour\n\nBasic concepts of colour for beginners and experts\nColour theory\nCommercial shades - advantages and disadvantages\nIndustrial shade guides, product oriented\nPersonalised shade guides, types and use\nDigital recipes and abandoning the analogue\nStratification technique selection according to the colour obtained\nIs material selection important?\n\nAnterior Directs Class IV\n\nObtaining the perfect palatal index\nCavity preparation\nAdhesive steps\nMatrix and wedging management\nThickness control during stratification\nEnamel placement tips and tricks\nMorphology, luster and polishing\nHandling fractured teeth\nMaintenance and long-term control\n\nDirect Veneers and technical rationale\n\nColor determination in veneers\nConstruction sequence\nDanger areas\nIndications\nRestoration design\nMass disposition\nFinishing, polishing and longevity\n\nPosterior Tips and trick 20 years experience\n\nRepeatable, easy and a very refined stratification technique\nComposite contraction\nTrust your modeling\nRational use of stains\nMatrices management\nSuper contact achievement\nStratification\nModeling for the future materials\nUnderstanding anatomy from another point of view\nColour selection\nEssence of the anatomical features\nInstruments for perfect morphology\n\nLive demostration\n\nDeep margin elevation\nEssential Lines modeling\n\n\n\n\n\n\nDAY 2\nHANDS-ON • JULY 25th&nbsp;\nStratification Bases&nbsp;&nbsp;\n\nHands-on on how to obtain the perfect silicone bases for anterior stratification\nObtain the perfect palatal index\nStratification area determination\nColour estimation\nCavity prep and conditioning\n\nClass IV and CBT technique\n\nHands-on on aesthetic class IV construction\nPalatal wall construction\nProximal wall with an anatomical matrix&nbsp;\nDentinal body thickness calibration\nEnamel Placement\n\nEssential Shape and Morphology and Shape&nbsp;&nbsp;\n\nTheory and Hands-on about finishing and polishing\nContour • Primary anatomy\nSecondary anatomy\nTertiary anatomy\nSmoothing phase\nGloss phase\n\nEverything about Anterior Directs Class III and V\n\nFrom the simple to the complex\n3rd classes, colour and technique\nHow to obtain a tight contact everytime\nNatural contour in proximal anteriors\n5th classes the classical technique\nColour and shape\nCavity configuration\nStratification technique\nThe closing gap technique, suffer no more\nHybrid cavities\nAll of the above concepts applied in a clinical challenge&nbsp;\n\n\n\n\n\n\nDAY 3\nHANDS-ON • JULY 26th\nDiastema and Shape modifications&nbsp;\n\nThe Diastema challenge\nHistorical techniques for closing diastemas\nThe front wing technique\nOther applications of the front wing\nShape modifications\nTreating conoid teeth\nThe single veneer challenge under another perspective\n\nDiastema Restoration\n\nHands-on on how to restore naturally diastema\nColour estimation\nFront wing construction\nProximal walls optimization before matrix\nProximal walls with an anatomical matrix\nBackfilling\nProximal finishing and polishing&nbsp;\n\nAdvanced Posteriors\n\nContact point management\nPreserving or covering cusps\nRational use of bulk fill materials\nCervical enamel preservation\nCavity preparation\nWhen direct or indirect\nIndirect preparation\n\nDeep margin elevation and cusp coverage\n\nHands-on posterior complex restoration\nDeep margin elevation (Demo)\nProximal wall construction\nHeight control\nCavity base calibration\nEssential lines modeling\n\n\n\n\n

X-ALT-DESC;FMTTYPE=text/html:<!DOCTYPE HTML PUBLIC "-//W3C//DTD HTML 3.2//EN">\n<HTML>\n<HEAD>\n<META NAME="Generator" CONTENT="MS Exchange Server version 08.00.0681.000">\n<TITLE></TITLE>\n</HEAD>\n<BODY>\n<!-- Converted from text/rtf format -->\n\n<h3 class="product-price-custom">Lecture and Hands On</h3><br /><div class="price product-price-custom">INR 102,247.00 + 18% TAX</div><br /><div class="price"><strong>INR 9,759 discount!</strong><br /><br />Offer Expires: Jun 20th 11 PM</div><br /><div class="price">Jul 24th to 26th 2020</div><br /><div></div><br /><div><br /><ul class="shadow light-gray-bg bordered"><br /><li><strong>CPD Points:</strong><br />21.00 awarded by Dental Board of Australia</li><br /><li><strong>Address:&nbsp;</strong>Hotel Sea Princess<br />Juhu Tara Rd, near Juhu Beach, Airport Area<br />Juhu, Mumbai,<br />Maharashtra, 400049</li><br /></ul><br /><p><strong>Timings:</strong></p><br /><p>9am (sharp) - 5:30pm.<br />Registration:&nbsp;8:30am</p><br /></div><br /><div></div><br /><div><br /><h3 class="product-price-custom">Lecture Only</h3><br /><div class="price product-price-custom">INR 7,782.00 + 18% TAX</div><br /><div class="price">Jul 24th 2020</div><br /><div></div><br /><div><br /><ul class="shadow light-gray-bg bordered"><br /><li><strong>CPD Points:</strong><br />7.00 awarded by Dental Board of Australia</li><br /><li><strong>Address:&nbsp;</strong>Hotel Sea Princess<br />Juhu Tara Rd, near Juhu Beach, Airport Area<br />Juhu, Mumbai,<br />Maharashtra, 400049</li><br /></ul><br /><ul class="shadow light-gray-bg bordered"><br /><li><strong>Timings:</strong><br /><p>9am (sharp) - 5:30pm.<br />Registration:&nbsp;8:30am</p><br /></li><br /><li><strong>Payment Options:&nbsp;</strong>Bank Transfer</li><br /></ul><br /><p>&nbsp;</p><br /><h1 class="page-title">COURSE DESCRIPTION</h1><br /><div class="separator-2"></div><br /><div class="row grid-space-20 light-bg bordered"><br /><div class="col-sm-12 mb-20"><br /><h2>INTRODUCTION</h2><br /><p><strong>INTRODUCTION</strong></p><br /><p>Aesthetics dentistry is a topic now commonly presented in many congresses, articles and dental schools. It is something every dentist wants to do and achieve but aesthetically can be difficult to master especially with new complicated techniques. Some dentists are skeptical with the term “simple” aesthetic dentistry as the process may not always acheive optimum easthetic results. However, this is not always the case as demonstrated by Style Italiano. Learn how to obtain excellent results with the rational use of the “all time” concepts and the most contemporary simplified techniques</p><br /><p><strong>OVERVIEW</strong></p><br /><p>This course has as main goal, that is to teach the practitioner practical simple fool proof techniques that can be apply immediately after the course in their everyday practice boosting the quality of their work, especially function and aesthetics. • Become an expert in color matching • Master stratification of composite resins • Master surface texture and morphology • Learn how make adhesive dentistry last&nbsp;</p><br /></div><br /><div class="col-sm-12 mb-20"><br /><h2 class="text-center">DAY 1</h2><br /><p>THEORY • JULY 24th&nbsp;</p><br /><p><strong>The Secrets of DIGITAL Colour</strong></p><br /><ul><br /><li>Basic concepts of colour for beginners and experts</li><br /><li>Colour theory</li><br /><li>Commercial shades - advantages and disadvantages</li><br /><li>Industrial shade guides, product oriented</li><br /><li>Personalised shade guides, types and use</li><br /><li>Digital recipes and abandoning the analogue</li><br /><li>Stratification technique selection according to the colour obtained</li><br /><li>Is material selection important?</li><br /></ul><br /><p><strong>Anterior Directs Class IV</strong></p><br /><ul><br /><li>Obtaining the perfect palatal index</li><br /><li>Cavity preparation</li><br /><li>Adhesive steps</li><br /><li>Matrix and wedging management</li><br /><li>Thickness control during stratification</li><br /><li>Enamel placement tips and tricks</li><br /><li>Morphology, luster and polishing</li><br /><li>Handling fractured teeth</li><br /><li>Maintenance and long-term control</li><br /></ul><br /><p><strong>Direct Veneers and technical rationale</strong></p><br /><ul><br /><li>Color determination in veneers</li><br /><li>Construction sequence</li><br /><li>Danger areas</li><br /><li>Indications</li><br /><li>Restoration design</li><br /><li>Mass disposition</li><br /><li>Finishing, polishing and longevity</li><br /></ul><br /><p><strong>Posterior Tips and trick 20 years experience</strong></p><br /><ul><br /><li>Repeatable, easy and a very refined stratification technique</li><br /><li>Composite contraction</li><br /><li>Trust your modeling</li><br /><li>Rational use of stains</li><br /><li>Matrices management</li><br /><li>Super contact achievement</li><br /><li>Stratification</li><br /><li>Modeling for the future materials</li><br /><li>Understanding anatomy from another point of view</li><br /><li>Colour selection</li><br /><li>Essence of the anatomical features</li><br /><li>Instruments for perfect morphology</li><br /></ul><br /><p><strong>Live demostration</strong></p><br /><ul><br /><li>Deep margin elevation</li><br /><li>Essential Lines modeling</li><br /></ul><br /></div><br /><div class="col-sm-12 mb-20"><br /><div class="row masonry-grid-fitrows grid-space-10"></div><br /></div><br /><div class="col-sm-12 mb-20"><br /><h2 class="text-center">DAY 2</h2><br /><p>HANDS-ON • JULY 25th&nbsp;</p><br /><p><strong>Stratification Bases</strong>&nbsp;&nbsp;</p><br /><ul><br /><li>Hands-on on how to obtain the perfect silicone bases for anterior stratification</li><br /><li>Obtain the perfect palatal index</li><br /><li>Stratification area determination</li><br /><li>Colour estimation</li><br /><li>Cavity prep and conditioning</li><br /></ul><br /><p><strong>Class IV and CBT technique</strong></p><br /><ul><br /><li>Hands-on on aesthetic class IV construction</li><br /><li>Palatal wall construction</li><br /><li>Proximal wall with an anatomical matrix&nbsp;</li><br /><li>Dentinal body thickness calibration</li><br /><li>Enamel Placement</li><br /></ul><br /><p><strong>Essential Shape and Morphology and Shape</strong>&nbsp;&nbsp;</p><br /><ul><br /><li>Theory and Hands-on about finishing and polishing</li><br /><li>Contour • Primary anatomy</li><br /><li>Secondary anatomy</li><br /><li>Tertiary anatomy</li><br /><li>Smoothing phase</li><br /><li>Gloss phase</li><br /></ul><br /><p><strong>Everything about Anterior Directs Class III and V</strong></p><br /><ul><br /><li>From the simple to the complex</li><br /><li>3rd classes, colour and technique</li><br /><li>How to obtain a tight contact everytime</li><br /><li>Natural contour in proximal anteriors</li><br /><li>5th classes the classical technique</li><br /><li>Colour and shape</li><br /><li>Cavity configuration</li><br /><li>Stratification technique</li><br /><li>The closing gap technique, suffer no more</li><br /><li>Hybrid cavities</li><br /><li>All of the above concepts applied in a clinical challenge&nbsp;</li><br /></ul><br /></div><br /><div class="col-sm-12 mb-20"><br /><div class="row masonry-grid-fitrows grid-space-10"></div><br /></div><br /><div class="col-sm-12 mb-20"><br /><h2 class="text-center">DAY 3</h2><br /><p>HANDS-ON • JULY 26th</p><br /><p><strong>Diastema and Shape modifications</strong>&nbsp;</p><br /><ul><br /><li>The Diastema challenge</li><br /><li>Historical techniques for closing diastemas</li><br /><li>The front wing technique</li><br /><li>Other applications of the front wing</li><br /><li>Shape modifications</li><br /><li>Treating conoid teeth</li><br /><li>The single veneer challenge under another perspective</li><br /></ul><br /><p><strong>Diastema Restoration</strong></p><br /><ul><br /><li>Hands-on on how to restore naturally diastema</li><br /><li>Colour estimation</li><br /><li>Front wing construction</li><br /><li>Proximal walls optimization before matrix</li><br /><li>Proximal walls with an anatomical matrix</li><br /><li>Backfilling</li><br /><li>Proximal finishing and polishing&nbsp;</li><br /></ul><br /><p><strong>Advanced Posteriors</strong></p><br /><ul><br /><li>Contact point management</li><br /><li>Preserving or covering cusps</li><br /><li>Rational use of bulk fill materials</li><br /><li>Cervical enamel preservation</li><br /><li>Cavity preparation</li><br /><li>When direct or indirect</li><br /><li>Indirect preparation</li><br /></ul><br /><p><strong>Deep margin elevation and cusp coverage</strong></p><br /><ul><br /><li>Hands-on posterior complex restoration</li><br /><li>Deep margin elevation (Demo)</li><br /><li>Proximal wall construction</li><br /><li>Height control</li><br /><li>Cavity base calibration</li><br /><li>Essential lines modeling</li><br /></ul><br /></div><br /></div><br /></div><br /></div>\n\n</BODY>\n</HTML>

LOCATION:
END:VEVENT

END:VCALENDAR
