BEGIN:VCALENDAR
VERSION:2.0
PRODID:-//hacksw/handcal//NONSGML v1.0//EN
BEGIN:VEVENT
UID:08bf90d89ac6d7a5b2d0addf4cda63f5
DTSTAMP:20260425T115249Z

DTSTART:20200319T000000
DTEND:20200323T235959
SUMMARY:27th Australian Orthodontic Congress - Cairns 2020 - Australia
DESCRIPTION:\n\nWelcome&nbsp;\n\n\n\n\nOn behalf of the President of the Australian Society of Orthodontists I invite you to join us in Cairns for the 27th&nbsp;ASO Congress to be held from 20th&nbsp;to 23rd&nbsp;March 2020.\nOur theme for the Congress is “Bringing the Future into Focus” and could there be a better place than Cairns to improve your 2020 vision? Fringed by the Barrier Reef and surrounded by tropical rainforest, Queensland’s warmest welcome is waiting for you and your staff. Our Scientific Committee has developed a fantastic programme featuring a combination of International and local speakers which will be stimulating and informative for delegates and our auxillary staff alike.\nTo be held at the award winning Cairns Convention Centre, the CBD with its 7000 hotel rooms from budget to 5 star and entertainment precinct is only a short stroll away. Scientific pursuits and social interaction are the cornerstones of ASO Congresses and I am sure that 2020 in Cairns will be no exception!\nMark your diaries now – this is one meeting not to be missed!\nTony Shields\nCongress Chairman\n&nbsp;\nThe Cairns Convention Centre is a world class venue featuring 22&nbsp;meeting rooms, ideal for events from 300 – 2,500 delegates.&nbsp;\nThe Centre achieved the AIPC (International Association of&nbsp;Convention Centres) APEX Award for World’s Best Congress Centre&nbsp;in 2014 and 2004 – one of only two venues in the world to receive&nbsp;this prestigious industry accolade twice.&nbsp;\nIt was the first environmentally designed public building in Australia&nbsp;and has won many awards for its energy and resource conservation&nbsp;features.&nbsp;\nThe world acclaimed Cairns Convention Centre is everything you&nbsp;would expect from an international standard purpose built venue&nbsp;located amidst natures pristine playground.\n\n\nCairns Convention Centre\nCorner Wharf &amp; Sheridan Street\nCairns 4870 Queensland, Aus\nPost:&nbsp;PO Box 8084&nbsp;Cairns 4870 Queensland, Aus\nPhone:&nbsp;(07) 4042 4200\nFax:&nbsp;(07) 4052 1152\nWeb:&nbsp;cairnsconvention.com.au\n\n\n&nbsp;\n&nbsp;\n\n

X-ALT-DESC;FMTTYPE=text/html:<!DOCTYPE HTML PUBLIC "-//W3C//DTD HTML 3.2//EN">\n<HTML>\n<HEAD>\n<META NAME="Generator" CONTENT="MS Exchange Server version 08.00.0681.000">\n<TITLE></TITLE>\n</HEAD>\n<BODY>\n<!-- Converted from text/rtf format -->\n\n<div class="et_pb_module et_pb_text et_pb_text_0 et_pb_bg_layout_light  et_pb_text_align_left"><br /><div class="et_pb_text_inner"><br /><h1>Welcome&nbsp;</h1><br /></div><br /></div><br /><div class="et_pb_module et_pb_text et_pb_text_1 et_pb_bg_layout_light  et_pb_text_align_left"><br /><div class="et_pb_text_inner"><br /><p><span style="font-size: 12pt;">On behalf of the President of the Australian Society of Orthodontists I invite you to join us in Cairns for the 27th&nbsp;ASO Congress to be held from 20th&nbsp;to 23rd&nbsp;March 2020.</span></p><br /><p><span style="font-size: 12pt;">Our theme for the Congress is “Bringing the Future into Focus” and could there be a better place than Cairns to improve your 2020 vision? Fringed by the Barrier Reef and surrounded by tropical rainforest, Queensland’s warmest welcome is waiting for you and your staff. Our Scientific Committee has developed a fantastic programme featuring a combination of International and local speakers which will be stimulating and informative for delegates and our auxillary staff alike.</span></p><br /><p><span style="font-size: 12pt;">To be held at the award winning Cairns Convention Centre, the CBD with its 7000 hotel rooms from budget to 5 star and entertainment precinct is only a short stroll away. Scientific pursuits and social interaction are the cornerstones of ASO Congresses and I am sure that 2020 in Cairns will be no exception!</span></p><br /><p><span style="font-size: 12pt;">Mark your diaries now – this is one meeting not to be missed!</span></p><br /><p><span style="font-size: 12pt;">Tony Shields</span><br /><strong><span style="font-size: 12pt;">Congress Chairman</span></strong></p><br /><p>&nbsp;</p><br /><p>The Cairns Convention Centre is a world class venue featuring 22&nbsp;meeting rooms, ideal for events from 300 – 2,500 delegates.&nbsp;</p><br /><p>The Centre achieved the AIPC (International Association of&nbsp;Convention Centres) APEX Award for World’s Best Congress Centre&nbsp;in 2014 and 2004 – one of only two venues in the world to receive&nbsp;this prestigious industry accolade twice.&nbsp;</p><br /><p>It was the first environmentally designed public building in Australia&nbsp;and has won many awards for its energy and resource conservation&nbsp;features.&nbsp;</p><br /><p>The world acclaimed Cairns Convention Centre is everything you&nbsp;would expect from an international standard purpose built venue&nbsp;located amidst natures pristine playground.</p><br /><div class="fusion-layout-column fusion_builder_column fusion_builder_column_2_5 fusion-two-fifth fusion-column-first 2_5"><br /><div class="fusion-column-wrapper"><br /><p><strong>Cairns Convention Centre</strong><br />Corner Wharf &amp; Sheridan Street<br />Cairns 4870 Queensland, Aus<br /><strong>Post:</strong>&nbsp;PO Box 8084&nbsp;Cairns 4870 Queensland, Aus<br /><strong>Phone:</strong>&nbsp;(07) 4042 4200<br /><strong>Fax:</strong>&nbsp;(07) 4052 1152<br /><strong>Web:</strong>&nbsp;<a href="https://www.cairnsconvention.com.au/">cairnsconvention.com.au</a></p><br /></div><br /></div><br /><p>&nbsp;</p><br /><p>&nbsp;</p><br /></div><br /></div>\n\n</BODY>\n</HTML>

LOCATION:
END:VEVENT

END:VCALENDAR
