BEGIN:VCALENDAR
VERSION:2.0
PRODID:-//hacksw/handcal//NONSGML v1.0//EN
BEGIN:VEVENT
UID:d0f40dd11ba6998782d99e7d0d250b12
DTSTAMP:20260425T170142Z

DTSTART:20200324T000000
DTEND:20200325T235959
SUMMARY:ADVANCED ASIAN DENTAL SUMMIT 2020 - Phillipines
DESCRIPTION:MARCH 24&nbsp;-25, 2020\npre-congress March 23, 2020\nPHILIPPINE INTERNATIONAL CONVENTION CENTER\nforum &nbsp;1-3\nPASAY CITY ,PHILIPPINES\n\n\nTheme:&nbsp;A Bridge towards Advanced Dental Practices\n\n\nAADS or the ADVANCED ASIAN DENTAL SUMMIT is established to promote the Philippines as the new hub for international conferences and business matching in the Asia Pacific.&nbsp;As dentistry is constantly revolutionized, dental practitioners seek for continuous professional development in their respective specialisations.&nbsp;Fueled by that chronically increasing demand,&nbsp;AADS' aims to present&nbsp;relevant and continuous information in various disciplines of dentistry with the hope to make the dream of improving the level of general and specialised dentistry, a viable one.\n\nBy inviting well and renowned presenters and speakers of various dental disciplines, leaders in the industry who are at&nbsp;the forefront of their class, to impart and share their experience, knowledge and passion with us, we would hence be closer in achieving the dream of a better dental environment and serving&nbsp;the dental community with a purpose.&nbsp;\n\n\n\n\n\n\n\n\n\n\nOur Vision&nbsp;\n\n\n\n\n\n\n\n\n\n\n\n\n\n\n\n\n\nAADS aims to be the&nbsp;leading academic provider of evidenced based education in the Asia Pacific&nbsp;to&nbsp;all dental professionals who seek quality and advanced dental edification.&nbsp;By offering a wide array of topics&nbsp;in Dentistry, all dental professionals and allied health professionals will have access to these information. We envision the Philippines to be the new hub of continuing education in the Asia Pacific hosting international conferences and a platform for business matching.&nbsp;\n\n\n\n\n\n\n\n\n\n\n\n\n\n\n\n\n\n\n\n\n\n\n\n\n\n\n\n\n\n​​​​\nThe mission of AADS is to advance the dental practice in the interest of the profession by providing substantial continuing dental education and programs. This&nbsp;will propel and further qualify our dental professionals in the ever advancing dental profession.\n\n\n\n\n\n\n\n\n\n\n\n\n\n

X-ALT-DESC;FMTTYPE=text/html:<!DOCTYPE HTML PUBLIC "-//W3C//DTD HTML 3.2//EN">\n<HTML>\n<HEAD>\n<META NAME="Generator" CONTENT="MS Exchange Server version 08.00.0681.000">\n<TITLE></TITLE>\n</HEAD>\n<BODY>\n<!-- Converted from text/rtf format -->\n\n<div><span style="font-size: 14pt;"><strong>MARCH 24&nbsp;-25, 2020</strong></span></div><br /><div><span style="font-size: 14pt;"><strong>pre-congress March 23, 2020</strong></span></div><br /><div><span style="font-size: 14pt;"><strong>PHILIPPINE INTERNATIONAL CONVENTION CENTER</strong></span></div><br /><div><span style="font-size: 14pt;"><strong>forum &nbsp;1-3</strong></span></div><br /><div><span style="font-size: 14pt;"><strong>PASAY CITY ,PHILIPPINES</strong></span></div><br /><div></div><br /><div><br /><div><span style="font-size: 24pt;">Theme:&nbsp;A Bridge towards Advanced Dental Practices</span></div><br /><div></div><br /><div><br /><div><span style="font-size: 12pt;">AADS or the ADVANCED ASIAN DENTAL SUMMIT is established to promote the Philippines as the new hub for international conferences and business matching in the Asia Pacific.&nbsp;As dentistry is constantly revolutionized, dental practitioners seek for continuous professional development in their respective specialisations.&nbsp;Fueled by that chronically increasing demand,&nbsp;AADS' aims to present&nbsp;relevant and continuous information in various disciplines of dentistry with the hope to make the dream of improving the level of general and specialised dentistry, a viable one.</span></div><br /><div></div><br /><div><span style="font-size: 12pt;">By inviting well and renowned presenters and speakers of various dental disciplines, leaders in the industry who are at&nbsp;the forefront of their class, to impart and share their experience, knowledge and passion with us, we would hence be closer in achieving the dream of a better dental environment and serving&nbsp;the dental community with a purpose.&nbsp;</span></div><br /><div></div><br /><div><br /><div id="id1448179231730" class="design-element element-size-box has-rich-content user-selectable-element clickable-element has-rich-content has-text is-section-child" data-element-id="id1448179231730"><br /><div class="element-main-box design-element-main-box has-rich-content user-selectable-element clickable-element has-rich-content has-text" data-element-id="id1448179231730"><br /><div class="element-border-box element-border-target element-padding-box design-element-border-box has-rich-content user-selectable-element clickable-element has-rich-content has-text" data-element-id="id1448179231730"><br /><div class="element-content-box design-element-content-box has-rich-content user-selectable-element clickable-element has-rich-content has-text" data-element-id="id1448179231730"><br /><div class="content-container content-container-type element-size-box element-size-target has-rich-content user-selectable-element clickable-element has-rich-content has-text" data-element-id="id1448179231730"><br /><div class="rich-text-element-content absolute-fill element-content dir-ltr"><br /><div class="rich-text-positioning-wrapper vertical-alignment-top"><br /><div class="rich-text-content common-rich-content-style has-content"><br /><div><span style="text-decoration: underline; font-size: 12pt;"><strong><span class="theme-text-color-0-1">Our Vision&nbsp;</span></strong></span></div><br /></div><br /></div><br /></div><br /></div><br /></div><br /></div><br /></div><br /></div><br /><div id="id1448179268707" class="design-element element-size-box has-rich-content user-selectable-element clickable-element has-rich-content has-text is-section-child" data-element-id="id1448179268707"><br /><div class="element-main-box design-element-main-box has-rich-content user-selectable-element clickable-element has-rich-content has-text" data-element-id="id1448179268707"><br /><div class="element-background-layer element-border-target design-element-background-layer has-rich-content user-selectable-element clickable-element has-rich-content has-text" data-element-id="id1448179268707"></div><br /><div class="element-border-box element-border-target element-padding-box design-element-border-box has-rich-content user-selectable-element clickable-element has-rich-content has-text" data-element-id="id1448179268707"><br /><div class="element-content-box design-element-content-box has-rich-content user-selectable-element clickable-element has-rich-content has-text" data-element-id="id1448179268707"><br /><div class="content-container content-container-type element-size-box element-size-target has-rich-content user-selectable-element clickable-element has-rich-content has-text" data-element-id="id1448179268707"><br /><div class="rich-text-element-content absolute-fill element-content dir-ltr"><br /><div class="rich-text-positioning-wrapper vertical-alignment-top"><br /><div class="rich-text-content common-rich-content-style has-content"><br /><div><span style="font-size: 12pt;">AADS aims to be the&nbsp;leading academic provider of evidenced based education in the Asia Pacific&nbsp;to&nbsp;all dental professionals who seek quality and advanced dental edification.&nbsp;By offering a wide array of topics&nbsp;in Dentistry, all dental professionals and allied health professionals will have access to these information. We envision the Philippines to be the new hub of continuing education in the Asia Pacific hosting international conferences and a platform for business matching.&nbsp;</span></div><br /></div><br /></div><br /></div><br /></div><br /></div><br /></div><br /></div><br /></div><br /><div id="id1552362559711" class="design-element element-size-box user-selectable-element clickable-element is-section-child" data-element-id="id1552362559711"><br /><div class="element-main-box design-element-main-box user-selectable-element clickable-element" data-element-id="id1552362559711"><br /><div class="element-background-layer element-border-target design-element-background-layer user-selectable-element clickable-element" data-element-id="id1552362559711"></div><br /><div class="element-border-box element-border-target element-padding-box design-element-border-box user-selectable-element clickable-element" data-element-id="id1552362559711"><br /><div class="element-content-box design-element-content-box user-selectable-element clickable-element" data-element-id="id1552362559711"><br /><div class="content-container content-container-type element-size-box element-size-target user-selectable-element clickable-element" data-element-id="id1552362559711"><br /><div class="line-element-line element-content horizontal"></div><br /></div><br /></div><br /></div><br /></div><br /></div><br /><div id="id1552362859312" class="design-element element-size-box has-rich-content user-selectable-element clickable-element has-rich-content has-text is-section-child" data-element-id="id1552362859312"><br /><div class="element-main-box design-element-main-box has-rich-content user-selectable-element clickable-element has-rich-content has-text" data-element-id="id1552362859312"><br /><div class="element-background-layer element-border-target design-element-background-layer has-rich-content user-selectable-element clickable-element has-rich-content has-text" data-element-id="id1552362859312"></div><br /><div class="element-border-box element-border-target element-padding-box design-element-border-box has-rich-content user-selectable-element clickable-element has-rich-content has-text" data-element-id="id1552362859312"><br /><div class="element-content-box design-element-content-box has-rich-content user-selectable-element clickable-element has-rich-content has-text" data-element-id="id1552362859312"><br /><div class="content-container content-container-type element-size-box element-size-target has-rich-content user-selectable-element clickable-element has-rich-content has-text" data-element-id="id1552362859312"><br /><div class="rich-text-element-content absolute-fill element-content dir-ltr"><br /><div class="rich-text-positioning-wrapper vertical-alignment-top"><br /><div class="rich-text-content common-rich-content-style has-content"><br /><div><span style="font-size: 12pt;">​​​​</span><br /><span style="font-size: 12pt;">The mission of AADS is to advance the dental practice in the interest of the profession by providing substantial continuing dental education and programs. This&nbsp;will propel and further qualify our dental professionals in the ever advancing dental profession.</span></div><br /></div><br /></div><br /></div><br /></div><br /></div><br /></div><br /></div><br /></div><br /></div><br /></div><br /></div><br /><div></div><br /><div></div><br /><div></div>\n\n</BODY>\n</HTML>

LOCATION:
END:VEVENT

END:VCALENDAR
