BEGIN:VCALENDAR
VERSION:2.0
PRODID:-//hacksw/handcal//NONSGML v1.0//EN
BEGIN:VEVENT
UID:1630f51647b436ea0e3dccac46c47a1a
DTSTAMP:20260425T113645Z

DTSTART:20200313T000000
DTEND:20200315T235959
SUMMARY:ADX20 Sydney Australia
DESCRIPTION:Australia's premier dental event is&nbsp;ADX20 Sydney. A biennial event that is recognised as the place where the nation's dental community comes together to see more, buy more, and learn more.\nSince it was first held in 2006 this trade show has established itself as the best opportunity for dentists and allied oral healthcare professionals to see more, buy more, and learn more. Planning is well underway for an impressive event that will feature:\nADX20 Sydney Key Highlights —\n▪ 550+ exhibition booths\n▪ 13,500+ square meters of exhibition space\n▪ 10,000+ stakeholders attending from across the dental industry\n▪ 50+ seminar sessions\nHeld biennially and convened by the Australian Dental Industry Association (ADIA), the peak business organisation representing manufacturers and suppliers of innovative dental products,&nbsp;ADX20 Sydney&nbsp;is the nation's largest healthcare trade show.\nIf your business or association is interested in being part of&nbsp;ADX20 Sydney&nbsp;simply contact the ADIA Exhibitions Operations Manager, Ms Jan Van Dyk, via email at&nbsp;jan.vandyk@adia.org.au&nbsp;or by telephone on 1300 943 094.\n&nbsp;\n&nbsp;\n13-15 March 2020\nInternational Convention Centre Sydney\nHalls 5, 6 and 7\nFriday 13 March 2020&nbsp; &nbsp; &nbsp; &nbsp; 10.00am - 6.00pm\nSaturday 14 March 2020&nbsp; &nbsp;10.00am - 6.00pm\nSunday 15 March 2020&nbsp; &nbsp; &nbsp; 10.00am - 3.00pm\n&nbsp;

X-ALT-DESC;FMTTYPE=text/html:<!DOCTYPE HTML PUBLIC "-//W3C//DTD HTML 3.2//EN">\n<HTML>\n<HEAD>\n<META NAME="Generator" CONTENT="MS Exchange Server version 08.00.0681.000">\n<TITLE></TITLE>\n</HEAD>\n<BODY>\n<!-- Converted from text/rtf format -->\n\n<p><span style="font-size: 12pt;">Australia's premier dental event is&nbsp;<em>ADX20 Sydney</em>. A biennial event that is recognised as the place where the nation's dental community comes together to see more, buy more, and learn more.</span></p><br /><p><span style="font-size: 12pt;">Since it was first held in 2006 this trade show has established itself as the best opportunity for dentists and allied oral healthcare professionals to see more, buy more, and learn more. Planning is well underway for an impressive event that will feature:</span></p><br /><p><span style="font-size: 12pt;"><strong>ADX20 Sydney Key Highlights —</strong></span></p><br /><p><span style="font-size: 12pt;">▪ 550+ exhibition booths</span><br /><span style="font-size: 12pt;">▪ 13,500+ square meters of exhibition space</span><br /><span style="font-size: 12pt;">▪ 10,000+ stakeholders attending from across the dental industry</span><br /><span style="font-size: 12pt;">▪ 50+ seminar sessions</span></p><br /><p><span style="font-size: 12pt;">Held biennially and convened by the Australian Dental Industry Association (ADIA), the peak business organisation representing manufacturers and suppliers of innovative dental products,&nbsp;<em>ADX20 Sydney</em>&nbsp;is the nation's largest healthcare trade show.</span></p><br /><p><span style="font-size: 12pt;">If your business or association is interested in being part of&nbsp;<em>ADX20 Sydney</em>&nbsp;simply contact the ADIA Exhibitions Operations Manager, Ms Jan Van Dyk, via email at&nbsp;<a href="mailto:jan.vandyk@adia.org.au?subject=ADX20%20Sydney">jan.vandyk@adia.org.au</a>&nbsp;or by telephone on 1300 943 094.</span></p><br /><p>&nbsp;</p><br /><p>&nbsp;</p><br /><p><span style="font-size: 14pt;"><strong>13-15 March 2020</strong></span><br /><span style="font-size: 14pt;"><strong>International Convention Centre Sydney</strong></span><br /><span style="font-size: 14pt;"><strong>Halls 5, 6 and 7</strong></span></p><br /><p><span style="font-size: 12pt;">Friday 13 March 2020&nbsp; &nbsp; &nbsp; &nbsp; 10.00am - 6.00pm</span><br /><span style="font-size: 12pt;">Saturday 14 March 2020&nbsp; &nbsp;10.00am - 6.00pm</span><br /><span style="font-size: 12pt;">Sunday 15 March 2020&nbsp; &nbsp; &nbsp; 10.00am - 3.00pm</span></p><br /><p>&nbsp;</p>\n\n</BODY>\n</HTML>

LOCATION:
END:VEVENT

END:VCALENDAR
