BEGIN:VCALENDAR
VERSION:2.0
PRODID:-//hacksw/handcal//NONSGML v1.0//EN
BEGIN:VEVENT
UID:d70f24ce854876e8a54608de4387df0e
DTSTAMP:20260425T115601Z

DTSTART:20180406T100000
DTEND:20180406T110000
SUMMARY:Lecture on The Role of Sphingosine 1-phosphate in Cancer - UM
DESCRIPTION:ALL ARE INVITED\n\n**Synopsis**\nThe research on the bioactive lipid sphingosine 1-phosphate has focussed specifically on the role of sphingosine kinase 1 and 2 (the enzymes that catalyse formation of sphingosine 1-phosphate) and\nsphingosine 1-phosphate receptors in the control of cell biology in health and disease. Specific investigation has been on the functional interaction of S1P receptors with oncogenes in cancer and\nthe role of receptors in micro-environmental niche interaction between cancer cells and fibroblasts. The research has also investigated the role of sphingosine kinase in regulating cell survival, migration and growth of cancer cells. Sphingosine kinases and S1P receptors represent targets for a potential therapeutic intervention in the treatment of cancer, inflammation, cardiovascular diseases and infection. Their role in disease and opportunities for novel drug discovery in this area will be discussed.\n\n**Speaker Biography**\nProfessor Nigel Pyne obtained his BSc in Biochemistry in 1982 from the University of Birmingham (UK) and his PhD in Biochemistry from the University of Manchester (UK) in 1985. He undertook his\npost-doctoral work at the University of Glasgow with Professor Miles Houslay on insulin signalling. Since, 1989, he has worked within the Strathclyde Institute of Pharmacy and Biomedical Sciences\n(SIPBS) at the University of Strathclyde, where he was head of research (2006-2009). With Professor Susan Pyne he has studied the bioactive lipid, sphingosine-1 phosphate since 1994 and has published approx. 100 papers in this area (178 papers in total) and as an H index of 52 with ~ 8300 citations. Professor Nigel Pyne is a recipient of the Sandoz Prize (awarded by the British Pharmacological Society) for contributions to Pharmacology. He is an elected member of the Academy of Science of the Institute of Bologna (founded in 1690) and is a Fellow of the Royal Society of Biology. He served as Editor in Chief of the international scientific journal, Cellular Signalling and is a co-founder of Mironid Ltd. He has trained over 30 PhD students and 15 post-doctoral researchers.

X-ALT-DESC;FMTTYPE=text/html:<!DOCTYPE HTML PUBLIC "-//W3C//DTD HTML 3.2//EN">\n<HTML>\n<HEAD>\n<META NAME="Generator" CONTENT="MS Exchange Server version 08.00.0681.000">\n<TITLE></TITLE>\n</HEAD>\n<BODY>\n<!-- Converted from text/rtf format -->\n\n<p>ALL ARE INVITED<br /><br /><span style="text-decoration: underline; font-size: 12pt;"><strong>**Synopsis**</strong></span><br /><span style="font-size: 12pt;">The research on the bioactive lipid sphingosine 1-phosphate has focussed specifically on the role of sphingosine kinase 1 and 2 (the enzymes that catalyse formation of sphingosine 1-phosphate) and</span><br /><span style="font-size: 12pt;">sphingosine 1-phosphate receptors in the control of cell biology in health and disease. Specific investigation has been on the functional interaction of S1P receptors with oncogenes in cancer and</span><br /><span style="font-size: 12pt;">the role of receptors in micro-environmental niche interaction between cancer cells and fibroblasts. The research has also investigated the role of sphingosine kinase in regulating cell survival, migration and growth of cancer cells. Sphingosine kinases and S1P receptors represent targets for a potential therapeutic intervention in the treatment of cancer, inflammation, cardiovascular diseases and infection. Their role in disease and opportunities for novel drug discovery in this area will be discussed.</span><br /><br /><span style="text-decoration: underline; font-size: 12pt;"><strong>**Speaker Biography**</strong></span><br /><span style="font-size: 12pt;">Professor Nigel Pyne obtained his BSc in Biochemistry in 1982 from the University of Birmingham (UK) and his PhD in Biochemistry from the University of Manchester (UK) in 1985. He undertook his</span><br /><span style="font-size: 12pt;">post-doctoral work at the University of Glasgow with Professor Miles Houslay on insulin signalling. Since, 1989, he has worked within the Strathclyde Institute of Pharmacy and Biomedical Sciences</span><br /><span style="font-size: 12pt;">(SIPBS) at the University of Strathclyde, where he was head of research (2006-2009). With Professor Susan Pyne he has studied the bioactive lipid, sphingosine-1 phosphate since 1994 and has published approx. 100 papers in this area (178 papers in total) and as an H index of 52 with ~ 8300 citations. Professor Nigel Pyne is a recipient of the Sandoz Prize (awarded by the British Pharmacological Society) for contributions to Pharmacology. He is an elected member of the Academy of Science of the Institute of Bologna (founded in 1690) and is a Fellow of the Royal Society of Biology. He served as Editor in Chief of the international scientific journal, Cellular Signalling and is a co-founder of Mironid Ltd. He has trained over 30 PhD students and 15 post-doctoral researchers.</span></p>\n\n</BODY>\n</HTML>

LOCATION:
END:VEVENT

END:VCALENDAR
