BEGIN:VCALENDAR
VERSION:2.0
PRODID:-//hacksw/handcal//NONSGML v1.0//EN
BEGIN:VEVENT
UID:b570d512c1d4e6972eaa0e5cc494e8a3
DTSTAMP:20260425T115345Z

DTSTART:20180525T110000
DTEND:20180528T101500
SUMMARY:4-DAY ORAL REHABILITATION SYMPOSIUM - "The 3 Masters" , By Ancora Imparo Training
DESCRIPTION:Venue: KLCC Convention Centre\nImplementing A Risk Assessment Strategy In Clinical Practice: Emphasis on Occlusion - Dr. John Kois\n\n\nThe fundamental rationale for a comprehensive treatment approach is a long-term strategy for dental health commensurate with an enhanced level of wellness for our patients. Understanding parameters of disease expression is sometimes confused because of misguided science or parameters that have led to patient adaptation. Formulating specific treatment needs based on an individual’s risk assessment has created new challenges for both the dentist and the patient. Until we have more objective data with better metrics, much of our clinical decision making will remain emotionally driven and empirical.\nFor example, our knowledge about occlusion has been based on gnathologic principles. These concepts are the basis of a mechanical system with focus on posterior determinants and mutual protection. If it is that simple, why can’t we predict when or why occlusal pathology develops or why can’t we always create a therapeutic occlusion? This program will focus on biologic principles necessary for developing a functional occlusion. New paradigms will be presented to enlighten participants about understanding occlusal problems.\n \nLearning objectives:\n\nA systematic approach for treatment planning every patient in their practice. \nTo focus on the four most important diagnostic categories.\nUnderstanding the difference between occlusal disease and functional adaptation.\nTo develop critical risk parameters to minimize failures and maximize successful results.\nProtocols to implement treatment planning strategies. \n\n \nNew Perspectives on Vertical and Horizontal Augmentation - Dr. Istvan Urban\nVertical and horizontal augmentation presents one of the greatest challenges of bone regeneration in implant dentistry.  This is primarily due to the difficulty of the surgical procedure and its potential complications. Patient selection, patient preparation for surgery, precise surgical techniques and postoperative management are the key factors in reducing the rate of bone graft complications. \nTo predictably achieve successful bone augmentation angiogenesis, clot stability and space maintenance should be employed. \nAnother important factor is flap closure during bone augmentation.  The key to achieving wound closure is not only the clinician’s ability in obtaining tension free release flap but also good soft tissue quality and quantity. In an attempt to achieve wound closure and hence graft stability, the buccal mucosa are often broadly released, and this often results in a severe apical translocation of the mucogingival line, loss of vestibule and keratinized mucosa (KM).\nRecent research on vertical and horizontal ridge augmentation as well as soft tissue reconstruction will be presented.\nUtilizing these procedures may lessen the need of harvested autogenous bone and may generally lead to decreased morbidity and therefore increased patient comfort and satisfaction associated with these regenerative procedures. \n \nLearning objectives:\n\nUnderstand the biology of the incorporation of the bone graft.\n      Understand the surgical anatomy of the floor of the mouth\n      Learn the surgical principles of ridge augmentation surgery\n     Learn the surgical principles of the reconstruction of the vestibule and keratinized tissue after ridge \n      augmentation.\n\n    \nOptimizing Peri-Implant Esthetics: Ortho-Perio-Restorative Connection - Dr. Joseph Kan\nAchieving anterior implant esthetics is a challenging and demanding procedure.  To create implant restorations with harmonious gingival contour that emulate nature is a fusion of science and art.  Understanding the biologic and physiologic limitations of the soft and hard tissue will facilitate predictability in simple to complex esthetic situations.  \nThis presentation encompasses the Science, Art and Limitations of Orthodontics, Periodontics and Restorative Dentistry on esthetic implant reconstruction. Current implant treatment philosophies and methodologies for replacing currently missing teeth and the management of patients who will be losing a tooth or teeth in the esthetic zone will be discussed.  Emphasis will be placed on diagnosis and treatment planning, surgical and prosthetic management of soft and hard tissue for optimal anterior implant esthetics. \n \nLeaning Objectives\n\nInterdisciplinary Diagnosis &amp; Treatment from single to multiple teeth replacement in the esthetic    \n   zone\nIdentify prognostic variables for predictable implant esthetics\nImplant papilla management\nImmediate tooth replacement: IS it a viable procedure?\nMyth &amp; reality of prosthetic emergency profile\nCurrent concepts on flap &amp; incision designs\nBone and gingival grafts: What is possible, what is not possible?\nOrthodontics site development: What we know, what we do not know?\nComplications management\n

X-ALT-DESC;FMTTYPE=text/html:<!DOCTYPE HTML PUBLIC "-//W3C//DTD HTML 3.2//EN">\n<HTML>\n<HEAD>\n<META NAME="Generator" CONTENT="MS Exchange Server version 08.00.0681.000">\n<TITLE></TITLE>\n</HEAD>\n<BODY>\n<!-- Converted from text/rtf format -->\n\n<p><b>Venue:</b> KLCC Convention Centre</p><br /><p style="font-weight: 400;"><strong><u>Implementing A Risk Assessment Strategy In Clinical Practice: Emphasis on Occlusion - Dr. John Kois</u><br /><br /></strong></p><br /><p style="font-weight: 400;">The fundamental rationale for a comprehensive treatment approach is a long-term strategy for dental health commensurate with an enhanced level of wellness for our patients. Understanding parameters of disease expression is sometimes confused because of misguided science or parameters that have led to patient adaptation. Formulating specific treatment needs based on an individual’s risk assessment has created new challenges for both the dentist and the patient. Until we have more objective data with better metrics, much of our clinical decision making will remain emotionally driven and empirical.</p><br /><p style="font-weight: 400;">For example, our knowledge about occlusion has been based on gnathologic principles. These concepts are the basis of a mechanical system with focus on posterior determinants and mutual protection. If it is that simple, why can’t we predict when or why occlusal pathology develops or why can’t we always create a therapeutic occlusion? This program will focus on biologic principles necessary for developing a functional occlusion. New paradigms will be presented to enlighten participants about understanding occlusal problems.</p><br /><p style="font-weight: 400;"> </p><br /><p style="font-weight: 400;"><strong>Learning objectives:</strong></p><br /><ol><br /><li style="font-weight: 400;">A systematic approach for treatment planning every patient in their practice. </li><br /><li style="font-weight: 400;">To focus on the four most important diagnostic categories.</li><br /><li style="font-weight: 400;">Understanding the difference between occlusal disease and functional adaptation.</li><br /><li style="font-weight: 400;">To develop critical risk parameters to minimize failures and maximize successful results.</li><br /><li style="font-weight: 400;">Protocols to implement treatment planning strategies. </li><br /></ol><br /><p style="font-weight: 400;"> </p><br /><p style="font-weight: 400;"><strong><u>New Perspectives on Vertical and Horizontal Augmentation - Dr. Istvan Urban</u></strong></p><br /><p style="font-weight: 400;">Vertical and horizontal augmentation presents one of the greatest challenges of bone regeneration in implant dentistry.  This is primarily due to the difficulty of the surgical procedure and its potential complications. Patient selection, patient preparation for surgery, precise surgical techniques and postoperative management are the key factors in reducing the rate of bone graft complications. </p><br /><p style="font-weight: 400;">To predictably achieve successful bone augmentation angiogenesis, clot stability and space maintenance should be employed. </p><br /><p style="font-weight: 400;">Another important factor is flap closure during bone augmentation.  The key to achieving wound closure is not only the clinician’s ability in obtaining tension free release flap but also good soft tissue quality and quantity. In an attempt to achieve wound closure and hence graft stability, the buccal mucosa are often broadly released, and this often results in a severe apical translocation of the mucogingival line, loss of vestibule and keratinized mucosa (KM).</p><br /><p style="font-weight: 400;">Recent research on vertical and horizontal ridge augmentation as well as soft tissue reconstruction will be presented.</p><br /><p style="font-weight: 400;">Utilizing these procedures may lessen the need of harvested autogenous bone and may generally lead to decreased morbidity and therefore increased patient comfort and satisfaction associated with these regenerative procedures. </p><br /><p style="font-weight: 400;"> </p><br /><p style="font-weight: 400;"><strong>Learning objectives:</strong></p><br /><ol><br /><li style="font-weight: 400;">Understand the biology of the incorporation of the bone graft.</li><br /><li style="font-weight: 400;">      Understand the surgical anatomy of the floor of the mouth</li><br /><li style="font-weight: 400;">      Learn the surgical principles of ridge augmentation surgery</li><br /><li style="font-weight: 400;">     Learn the surgical principles of the reconstruction of the vestibule and keratinized tissue after ridge <br />      augmentation.</li><br /></ol><br /><p style="font-weight: 400;">    </p><br /><p style="font-weight: 400;"><strong><u>Optimizing Peri-Implant Esthetics: Ortho-Perio-Restorative Connection - Dr. Joseph Kan</u></strong></p><br /><p style="font-weight: 400;">Achieving anterior implant esthetics is a challenging and demanding procedure.  To create implant restorations with harmonious gingival contour that emulate nature is a fusion of science and art.  Understanding the biologic and physiologic limitations of the soft and hard tissue will facilitate predictability in simple to complex esthetic situations.  </p><br /><p style="font-weight: 400;">This presentation encompasses the Science, Art and Limitations of Orthodontics, Periodontics and Restorative Dentistry on esthetic implant reconstruction. Current implant treatment philosophies and methodologies for replacing currently missing teeth and the management of patients who will be losing a tooth or teeth in the esthetic zone will be discussed.  Emphasis will be placed on diagnosis and treatment planning, surgical and prosthetic management of soft and hard tissue for optimal anterior implant esthetics. </p><br /><p style="font-weight: 400;"> </p><br /><p style="font-weight: 400;"><strong>Leaning Objectives</strong></p><br /><ol><br /><li style="font-weight: 400;">Interdisciplinary Diagnosis &amp; Treatment from single to multiple teeth replacement in the esthetic    <br />   zone</li><br /><li style="font-weight: 400;">Identify prognostic variables for predictable implant esthetics</li><br /><li style="font-weight: 400;">Implant papilla management</li><br /><li style="font-weight: 400;">Immediate tooth replacement: IS it a viable procedure?</li><br /><li style="font-weight: 400;">Myth &amp; reality of prosthetic emergency profile</li><br /><li style="font-weight: 400;">Current concepts on flap &amp; incision designs</li><br /><li style="font-weight: 400;">Bone and gingival grafts: What is possible, what is not possible?</li><br /><li style="font-weight: 400;">Orthodontics site development: What we know, what we do not know?</li><br /><li style="font-weight: 400;">Complications management</li><br /></ol>\n\n</BODY>\n</HTML>

LOCATION:
END:VEVENT

END:VCALENDAR
