BEGIN:VCALENDAR
VERSION:2.0
PRODID:-//hacksw/handcal//NONSGML v1.0//EN
BEGIN:VEVENT
UID:4de60ef32e43e58dc27bdc261ecf1f44
DTSTAMP:20260425T114441Z

DTSTART:20180305T000000
DTEND:20180307T235959
SUMMARY:11th ASIAN PACIFIC ORTHODONTIC CONFERENCE - Phillipines
DESCRIPTION:\nCONFERENCE + WORKSHOPS\nDate: March 5-7, 2018\nVenue: Boracay, Phillipines\nRegistration Link:http://www.apoc2018.org

X-ALT-DESC;FMTTYPE=text/html:<!DOCTYPE HTML PUBLIC "-//W3C//DTD HTML 3.2//EN">\n<HTML>\n<HEAD>\n<META NAME="Generator" CONTENT="MS Exchange Server version 08.00.0681.000">\n<TITLE></TITLE>\n</HEAD>\n<BODY>\n<!-- Converted from text/rtf format -->\n\n<p><br /><strong>CONFERENCE + WORKSHOPS</strong><br /><strong>Date: March 5-7, 2018</strong><br /><strong>Venue: Boracay, Phillipines</strong><a href="https://www.dentistsnearby.com/2-uncategorised/509-joint-specialists-conference-2018.html"><br /></a>Registration Link:<a href="http://www.apoc2018.org/">http://www.apoc2018.org</a></p>\n\n</BODY>\n</HTML>

LOCATION:
END:VEVENT

END:VCALENDAR
