BEGIN:VCALENDAR
VERSION:2.0
PRODID:-//hacksw/handcal//NONSGML v1.0//EN
BEGIN:VEVENT
UID:37f92cb1db7f7fe098e02a7d33f1845f
DTSTAMP:20260425T165945Z

DTSTART:20180401T083000
DTEND:20180401T180000
SUMMARY:The Pitt Protocols - Johor
DESCRIPTION:The Pitts Protocols - Meet the new concept in Braces\nDr. Eow Wan Leong\n 

X-ALT-DESC;FMTTYPE=text/html:<!DOCTYPE HTML PUBLIC "-//W3C//DTD HTML 3.2//EN">\n<HTML>\n<HEAD>\n<META NAME="Generator" CONTENT="MS Exchange Server version 08.00.0681.000">\n<TITLE></TITLE>\n</HEAD>\n<BODY>\n<!-- Converted from text/rtf format -->\n\n<p>The Pitts Protocols - Meet the new concept in Braces</p><br /><p>Dr. Eow Wan Leong</p><br /><p> </p>\n\n</BODY>\n</HTML>

LOCATION:
END:VEVENT

END:VCALENDAR
