BEGIN:VCALENDAR
VERSION:2.0
PRODID:-//hacksw/handcal//NONSGML v1.0//EN
BEGIN:VEVENT
UID:8dcfa4b6a06939c6d2653c8043a8002f
DTSTAMP:20260425T114819Z

DTSTART:20180309T000000
DTEND:20180311T235959
SUMMARY:9th Southern Dental Congress - MDA
DESCRIPTION:Malaysian Dental Association - Southern Zone\nVenue, Holiday Villa, Johor Bahru\n 

X-ALT-DESC;FMTTYPE=text/html:<!DOCTYPE HTML PUBLIC "-//W3C//DTD HTML 3.2//EN">\n<HTML>\n<HEAD>\n<META NAME="Generator" CONTENT="MS Exchange Server version 08.00.0681.000">\n<TITLE></TITLE>\n</HEAD>\n<BODY>\n<!-- Converted from text/rtf format -->\n\n<p><strong>Malaysian Dental Association - Southern Zone</strong></p><br /><p><strong>Venue, Holiday Villa, Johor Bahru</strong></p><br /><p> </p>\n\n</BODY>\n</HTML>

LOCATION:
END:VEVENT

END:VCALENDAR
